Package: ROCpAI Version: 1.23.0 Command: /home/biocbuild/bbs-3.23-bioc/R/bin/R CMD INSTALL ROCpAI StartedAt: 2025-11-09 15:22:32 -0500 (Sun, 09 Nov 2025) EndedAt: 2025-11-09 15:22:53 -0500 (Sun, 09 Nov 2025) EllapsedTime: 20.6 seconds RetCode: 0 Status: OK