Package: RNAmodR.RiboMethSeq Version: 1.25.0 Command: /home/biocbuild/bbs-3.23-bioc/R/bin/R CMD build --keep-empty-dirs --no-resave-data RNAmodR.RiboMethSeq StartedAt: 2025-11-09 19:36:26 -0500 (Sun, 09 Nov 2025) EndedAt: 2025-11-09 19:37:57 -0500 (Sun, 09 Nov 2025) EllapsedTime: 91.1 seconds RetCode: 1 Status: ERROR PackageFile: None PackageFileSize: NA