Package: RNAmodR.ML Version: 1.25.0 Command: /home/biocbuild/bbs-3.23-bioc/R/bin/R CMD build --keep-empty-dirs --no-resave-data RNAmodR.ML StartedAt: 2025-11-07 19:37:05 -0500 (Fri, 07 Nov 2025) EndedAt: 2025-11-07 19:38:52 -0500 (Fri, 07 Nov 2025) EllapsedTime: 107.1 seconds RetCode: 1 Status: ERROR PackageFile: None PackageFileSize: NA