Package: RGraph2js Version: 1.39.0 Command: /home/biocbuild/bbs-3.23-bioc/R/bin/R CMD INSTALL RGraph2js StartedAt: 2025-11-07 15:12:11 -0500 (Fri, 07 Nov 2025) EndedAt: 2025-11-07 15:12:14 -0500 (Fri, 07 Nov 2025) EllapsedTime: 3.1 seconds RetCode: 0 Status: OK