Package: RGraph2js Version: 1.39.0 Maintainer: Stephane Cano MaintainerEmail: DL.RSupport at pmi.com git_url: https://git.bioconductor.org/packages/RGraph2js git_branch: devel git_last_commit: 4327aeb git_last_commit_date: 2025-10-29 10:29:41 -0500 (Wed, 29 Oct 2025)