Package: RDRToolbox Version: 1.61.0 Command: /home/biocbuild/bbs-3.23-bioc/R/bin/R CMD build --keep-empty-dirs --no-resave-data RDRToolbox StartedAt: 2025-11-07 19:28:57 -0500 (Fri, 07 Nov 2025) EndedAt: 2025-11-07 19:29:09 -0500 (Fri, 07 Nov 2025) EllapsedTime: 12.0 seconds RetCode: 0 Status: OK PackageFile: RDRToolbox_1.61.0.tar.gz PackageFileSize: 190.5 KiB