Package: RBioFormats Version: 1.11.0 Command: /home/biocbuild/bbs-3.23-bioc/R/bin/R CMD INSTALL RBioFormats StartedAt: 2025-11-21 15:13:21 -0500 (Fri, 21 Nov 2025) EndedAt: 2025-11-21 15:13:29 -0500 (Fri, 21 Nov 2025) EllapsedTime: 8.1 seconds RetCode: 0 Status: OK