Package: R453Plus1Toolbox Version: 1.61.0 Command: /home/biocbuild/bbs-3.23-bioc/R/bin/R CMD INSTALL R453Plus1Toolbox StartedAt: 2025-11-07 15:52:09 -0500 (Fri, 07 Nov 2025) EndedAt: 2025-11-07 15:53:20 -0500 (Fri, 07 Nov 2025) EllapsedTime: 70.1 seconds RetCode: 0 Status: OK