Package: R453Plus1Toolbox Version: 1.61.0 Command: /home/biocbuild/bbs-3.23-bioc/R/bin/R CMD build --keep-empty-dirs --no-resave-data R453Plus1Toolbox StartedAt: 2025-11-07 19:23:35 -0500 (Fri, 07 Nov 2025) EndedAt: 2025-11-07 19:24:58 -0500 (Fri, 07 Nov 2025) EllapsedTime: 83.1 seconds RetCode: 1 Status: ERROR PackageFile: None PackageFileSize: NA