Package: QuaternaryProd Version: 1.45.0 Maintainer: Carl Tony Fakhry MaintainerEmail: cfakhry at cs.umb.edu git_url: https://git.bioconductor.org/packages/QuaternaryProd git_branch: devel git_last_commit: 955c5f1 git_last_commit_date: 2025-10-29 10:29:19 -0500 (Wed, 29 Oct 2025)