Package: PolySTest Version: 1.5.1 Command: /home/biocbuild/bbs-3.23-bioc/R/bin/R CMD INSTALL PolySTest StartedAt: 2025-11-25 15:18:44 -0500 (Tue, 25 Nov 2025) EndedAt: 2025-11-25 15:19:11 -0500 (Tue, 25 Nov 2025) EllapsedTime: 27.0 seconds RetCode: 0 Status: OK