Package: PolySTest Version: 1.5.1 Command: /home/biocbuild/bbs-3.23-bioc/R/bin/R CMD build --keep-empty-dirs --no-resave-data PolySTest StartedAt: 2025-11-25 19:22:05 -0500 (Tue, 25 Nov 2025) EndedAt: 2025-11-25 19:23:53 -0500 (Tue, 25 Nov 2025) EllapsedTime: 108.1 seconds RetCode: 0 Status: OK PackageFile: PolySTest_1.5.1.tar.gz PackageFileSize: 2.1 MiB