Package: PepSetTest Version: 1.5.0 Command: /home/biocbuild/bbs-3.23-bioc/R/bin/R CMD INSTALL PepSetTest StartedAt: 2025-11-07 15:26:02 -0500 (Fri, 07 Nov 2025) EndedAt: 2025-11-07 15:26:04 -0500 (Fri, 07 Nov 2025) EllapsedTime: 2.4 seconds RetCode: 0 Status: OK