Package: PepSetTest Version: 1.5.0 Command: /home/biocbuild/bbs-3.23-bioc/R/bin/R CMD build --keep-empty-dirs --no-resave-data PepSetTest StartedAt: 2025-11-07 19:11:10 -0500 (Fri, 07 Nov 2025) EndedAt: 2025-11-07 19:11:30 -0500 (Fri, 07 Nov 2025) EllapsedTime: 20.0 seconds RetCode: 0 Status: OK PackageFile: PepSetTest_1.5.0.tar.gz PackageFileSize: 248.4 KiB