Package: PathNet Version: 1.51.0 Command: /home/biocbuild/bbs-3.23-bioc/R/bin/R CMD INSTALL PathNet StartedAt: 2025-11-09 15:01:48 -0500 (Sun, 09 Nov 2025) EndedAt: 2025-11-09 15:01:54 -0500 (Sun, 09 Nov 2025) EllapsedTime: 5.5 seconds RetCode: 0 Status: OK