Package: PathNet Version: 1.51.0 Command: /home/biocbuild/bbs-3.23-bioc/R/bin/R CMD build --keep-empty-dirs --no-resave-data PathNet StartedAt: 2025-11-09 19:07:56 -0500 (Sun, 09 Nov 2025) EndedAt: 2025-11-09 19:08:53 -0500 (Sun, 09 Nov 2025) EllapsedTime: 57.1 seconds RetCode: 0 Status: OK PackageFile: PathNet_1.51.0.tar.gz PackageFileSize: 823.9 KiB