Package: PathNet Version: 1.51.0 Maintainer: Ludwig Geistlinger MaintainerEmail: ludwig.geistlinger at gmail.com git_url: https://git.bioconductor.org/packages/PathNet git_branch: devel git_last_commit: 2a528ed git_last_commit_date: 2025-10-29 10:55:57 -0500 (Wed, 29 Oct 2025)