Package: PMScanR Version: 1.1.0 Command: /home/biocbuild/bbs-3.23-bioc/R/bin/R CMD INSTALL PMScanR StartedAt: 2025-11-18 16:26:56 -0500 (Tue, 18 Nov 2025) EndedAt: 2025-11-18 16:27:33 -0500 (Tue, 18 Nov 2025) EllapsedTime: 37.0 seconds RetCode: 0 Status: OK