Package: PMScanR Version: 1.1.0 Command: /home/biocbuild/bbs-3.23-bioc/R/bin/R CMD build --keep-empty-dirs --no-resave-data PMScanR StartedAt: 2025-11-18 20:10:47 -0500 (Tue, 18 Nov 2025) EndedAt: 2025-11-18 20:11:45 -0500 (Tue, 18 Nov 2025) EllapsedTime: 58.1 seconds RetCode: 0 Status: OK PackageFile: PMScanR_1.1.0.tar.gz PackageFileSize: 1.767 MiB