Package: PIUMA Version: 1.7.0 Command: /home/biocbuild/bbs-3.23-bioc/R/bin/R CMD INSTALL PIUMA StartedAt: 2025-11-07 15:23:49 -0500 (Fri, 07 Nov 2025) EndedAt: 2025-11-07 15:24:17 -0500 (Fri, 07 Nov 2025) EllapsedTime: 28.2 seconds RetCode: 0 Status: OK