Package: PIUMA Version: 1.7.0 Command: /home/biocbuild/bbs-3.23-bioc/R/bin/R CMD build --keep-empty-dirs --no-resave-data PIUMA StartedAt: 2025-11-09 19:12:37 -0500 (Sun, 09 Nov 2025) EndedAt: 2025-11-09 19:13:56 -0500 (Sun, 09 Nov 2025) EllapsedTime: 79.1 seconds RetCode: 1 Status: ERROR PackageFile: None PackageFileSize: NA