Package: PIUMA Version: 1.7.0 Maintainer: Mattia Chiesa MaintainerEmail: mattia.chiesa at cardiologicomonzino.it git_url: https://git.bioconductor.org/packages/PIUMA git_branch: devel git_last_commit: 02d3e61 git_last_commit_date: 2025-10-29 11:29:34 -0500 (Wed, 29 Oct 2025)