Package: PCAtools Version: 2.23.0 Maintainer: Kevin Blighe MaintainerEmail: kevin at clinicalbioinformatics.co.uk git_url: https://git.bioconductor.org/packages/PCAtools git_branch: devel git_last_commit: e79752c git_last_commit_date: 2025-10-29 10:49:30 -0500 (Wed, 29 Oct 2025)