Package: OutSplice Version: 1.11.0 Command: /home/biocbuild/bbs-3.23-bioc/R/bin/R CMD INSTALL OutSplice StartedAt: 2025-11-26 15:59:28 -0500 (Wed, 26 Nov 2025) EndedAt: 2025-11-26 16:00:03 -0500 (Wed, 26 Nov 2025) EllapsedTime: 35.5 seconds RetCode: 0 Status: OK