Package: OutSplice Version: 1.11.0 Command: /home/biocbuild/bbs-3.23-bioc/R/bin/R CMD build --keep-empty-dirs --no-resave-data OutSplice StartedAt: 2025-11-26 19:09:26 -0500 (Wed, 26 Nov 2025) EndedAt: 2025-11-26 19:11:06 -0500 (Wed, 26 Nov 2025) EllapsedTime: 100.2 seconds RetCode: 0 Status: OK PackageFile: OutSplice_1.11.0.tar.gz PackageFileSize: 3.863 MiB