Package: OpenStats Version: 1.23.0 Command: /home/biocbuild/bbs-3.23-bioc/R/bin/R CMD INSTALL OpenStats StartedAt: 2025-11-24 15:09:03 -0500 (Mon, 24 Nov 2025) EndedAt: 2025-11-24 15:09:24 -0500 (Mon, 24 Nov 2025) EllapsedTime: 21.1 seconds RetCode: 0 Status: OK