Package: OmicsMLRepoR Version: 1.5.0 Command: /home/biocbuild/bbs-3.23-bioc/R/bin/R CMD build --keep-empty-dirs --no-resave-data OmicsMLRepoR StartedAt: 2025-11-11 19:07:51 -0500 (Tue, 11 Nov 2025) EndedAt: 2025-11-11 19:09:19 -0500 (Tue, 11 Nov 2025) EllapsedTime: 88.1 seconds RetCode: 0 Status: OK PackageFile: OmicsMLRepoR_1.5.0.tar.gz PackageFileSize: 431.5 KiB