Package: OSAT Version: 1.59.0 Command: /home/biocbuild/bbs-3.23-bioc/R/bin/R CMD INSTALL OSAT StartedAt: 2025-11-07 15:02:39 -0500 (Fri, 07 Nov 2025) EndedAt: 2025-11-07 15:02:45 -0500 (Fri, 07 Nov 2025) EllapsedTime: 5.8 seconds RetCode: 0 Status: OK