Package: OSAT Version: 1.59.0 Command: /home/biocbuild/bbs-3.23-bioc/R/bin/R CMD build --keep-empty-dirs --no-resave-data OSAT StartedAt: 2025-11-07 19:03:36 -0500 (Fri, 07 Nov 2025) EndedAt: 2025-11-07 19:04:44 -0500 (Fri, 07 Nov 2025) EllapsedTime: 68.1 seconds RetCode: 0 Status: OK PackageFile: OSAT_1.59.0.tar.gz PackageFileSize: 960 KiB