Package: OSAT Version: 1.59.0 Maintainer: Li Yan MaintainerEmail: li.yan at roswellpark.org git_url: https://git.bioconductor.org/packages/OSAT git_branch: devel git_last_commit: 3e012f9 git_last_commit_date: 2025-10-29 10:11:29 -0500 (Wed, 29 Oct 2025)