Package: NanoStringNCTools Version: 1.19.0 Command: /home/biocbuild/bbs-3.23-bioc/R/bin/R CMD INSTALL NanoStringNCTools StartedAt: 2025-11-09 15:15:19 -0500 (Sun, 09 Nov 2025) EndedAt: 2025-11-09 15:15:37 -0500 (Sun, 09 Nov 2025) EllapsedTime: 17.4 seconds RetCode: 0 Status: OK