Package: NanoStringNCTools Version: 1.19.0 Maintainer: Maddy Griswold MaintainerEmail: mgriswold at nanostring.com git_url: https://git.bioconductor.org/packages/NanoStringNCTools git_branch: devel git_last_commit: 47660a8 git_last_commit_date: 2025-10-29 11:05:46 -0500 (Wed, 29 Oct 2025)