Package: NanoStringDiff Version: 1.41.0 Command: /home/biocbuild/bbs-3.23-bioc/R/bin/R CMD check --install=check:NanoStringDiff.install-out.txt --library=/home/biocbuild/bbs-3.23-bioc/R/site-library --timings NanoStringDiff_1.41.0.tar.gz StartedAt: 2025-11-19 02:47:16 -0500 (Wed, 19 Nov 2025) EndedAt: 2025-11-19 02:49:16 -0500 (Wed, 19 Nov 2025) EllapsedTime: 120.4 seconds RetCode: 0 Status: WARNINGS CheckDir: NanoStringDiff.Rcheck Warnings: 1