Package: NanoStringDiff Version: 1.41.0 Maintainer: tingting zhai ,hong wang MaintainerEmail: hong.wang at uky.edu git_url: https://git.bioconductor.org/packages/NanoStringDiff git_branch: devel git_last_commit: b94a57b git_last_commit_date: 2025-10-29 10:27:11 -0500 (Wed, 29 Oct 2025)