Package: NBAMSeq Version: 1.27.0 Command: /home/biocbuild/bbs-3.23-bioc/R/bin/R CMD INSTALL NBAMSeq StartedAt: 2025-11-26 15:36:41 -0500 (Wed, 26 Nov 2025) EndedAt: 2025-11-26 15:37:11 -0500 (Wed, 26 Nov 2025) EllapsedTime: 30.5 seconds RetCode: 0 Status: OK