Package: NBAMSeq Version: 1.27.0 Command: /home/biocbuild/bbs-3.23-bioc/R/bin/R CMD build --keep-empty-dirs --no-resave-data NBAMSeq StartedAt: 2025-11-26 18:58:23 -0500 (Wed, 26 Nov 2025) EndedAt: 2025-11-26 18:59:18 -0500 (Wed, 26 Nov 2025) EllapsedTime: 55.0 seconds RetCode: 0 Status: OK PackageFile: NBAMSeq_1.27.0.tar.gz PackageFileSize: 316.7 KiB