Package: MultimodalExperiment Version: 1.11.0 Maintainer: Lucas Schiffer MaintainerEmail: schiffer.lucas at gmail.com git_url: https://git.bioconductor.org/packages/MultimodalExperiment git_branch: devel git_last_commit: 14f0df6 git_last_commit_date: 2025-10-29 11:23:19 -0500 (Wed, 29 Oct 2025)