Package: MultiRNAflow Version: 1.9.0 Command: /home/biocbuild/bbs-3.23-bioc/R/bin/R CMD INSTALL MultiRNAflow StartedAt: 2025-11-07 15:22:32 -0500 (Fri, 07 Nov 2025) EndedAt: 2025-11-07 15:23:19 -0500 (Fri, 07 Nov 2025) EllapsedTime: 46.7 seconds RetCode: 0 Status: OK