Package: MultiRNAflow Version: 1.9.0 Maintainer: Rodolphe Loubaton MaintainerEmail: loubaton.rodolphe at gmail.com git_url: https://git.bioconductor.org/packages/MultiRNAflow git_branch: devel git_last_commit: 3c2e28d git_last_commit_date: 2025-10-29 11:24:54 -0500 (Wed, 29 Oct 2025)