Package: MultiDataSet Version: 1.39.0 Maintainer: Xavier EscribĂ  Montagut MaintainerEmail: xavier.escriba at isglobal.org git_url: https://git.bioconductor.org/packages/MultiDataSet git_branch: devel git_last_commit: 5045884 git_last_commit_date: 2025-10-29 10:31:59 -0500 (Wed, 29 Oct 2025)