Package: MultiBaC Version: 1.21.0 Command: /home/biocbuild/bbs-3.23-bioc/R/bin/R CMD INSTALL MultiBaC StartedAt: 2025-11-21 15:38:35 -0500 (Fri, 21 Nov 2025) EndedAt: 2025-11-21 15:38:40 -0500 (Fri, 21 Nov 2025) EllapsedTime: 5.0 seconds RetCode: 0 Status: OK