Package: MsBackendSql Version: 1.11.1 Maintainer: Johannes Rainer MaintainerEmail: Johannes.Rainer at eurac.edu git_url: https://git.bioconductor.org/packages/MsBackendSql git_branch: devel git_last_commit: c6833d3 git_last_commit_date: 2025-11-03 06:57:03 -0500 (Mon, 03 Nov 2025)