Package: MsBackendRawFileReader Version: 1.17.0 Maintainer: Christian Panse MaintainerEmail: cp at fgcz.ethz.ch git_url: https://git.bioconductor.org/packages/MsBackendRawFileReader git_branch: devel git_last_commit: c509d56 git_last_commit_date: 2025-10-29 11:12:57 -0500 (Wed, 29 Oct 2025)