Package: MsBackendMsp Version: 1.15.0 Command: /home/biocbuild/bbs-3.23-bioc/R/bin/R CMD INSTALL MsBackendMsp StartedAt: 2025-11-09 15:14:18 -0500 (Sun, 09 Nov 2025) EndedAt: 2025-11-09 15:14:27 -0500 (Sun, 09 Nov 2025) EllapsedTime: 9.3 seconds RetCode: 0 Status: OK