Package: MsBackendMsp Version: 1.15.0 Maintainer: Johannes Rainer MaintainerEmail: Johannes.Rainer at eurac.edu git_url: https://git.bioconductor.org/packages/MsBackendMsp git_branch: devel git_last_commit: 4b37244 git_last_commit_date: 2025-10-29 11:15:06 -0500 (Wed, 29 Oct 2025)