Package: MsBackendMetaboLights Version: 1.5.1 Command: /home/biocbuild/bbs-3.23-bioc/R/bin/R CMD INSTALL MsBackendMetaboLights StartedAt: 2025-11-07 15:14:45 -0500 (Fri, 07 Nov 2025) EndedAt: 2025-11-07 15:14:57 -0500 (Fri, 07 Nov 2025) EllapsedTime: 12.1 seconds RetCode: 0 Status: OK