Package: Modstrings Version: 1.27.0 Command: /home/biocbuild/bbs-3.23-bioc/R/bin/R CMD INSTALL Modstrings StartedAt: 2025-11-07 15:15:55 -0500 (Fri, 07 Nov 2025) EndedAt: 2025-11-07 15:15:59 -0500 (Fri, 07 Nov 2025) EllapsedTime: 4.2 seconds RetCode: 1 Status: ERROR