Package: MethTargetedNGS Version: 1.43.0 Command: /home/biocbuild/bbs-3.23-bioc/R/bin/R CMD INSTALL MethTargetedNGS StartedAt: 2025-11-19 15:54:12 -0500 (Wed, 19 Nov 2025) EndedAt: 2025-11-19 15:54:24 -0500 (Wed, 19 Nov 2025) EllapsedTime: 11.8 seconds RetCode: 0 Status: OK