Package: MetaboCoreUtils Version: 1.19.0 Command: /home/biocbuild/bbs-3.23-bioc/R/bin/R CMD INSTALL MetaboCoreUtils StartedAt: 2025-11-09 15:13:11 -0500 (Sun, 09 Nov 2025) EndedAt: 2025-11-09 15:13:18 -0500 (Sun, 09 Nov 2025) EllapsedTime: 6.4 seconds RetCode: 0 Status: OK