Package: MetaboCoreUtils Version: 1.19.0 Command: /home/biocbuild/bbs-3.23-bioc/R/bin/R CMD build --keep-empty-dirs --no-resave-data MetaboCoreUtils StartedAt: 2025-11-07 18:27:16 -0500 (Fri, 07 Nov 2025) EndedAt: 2025-11-07 18:27:29 -0500 (Fri, 07 Nov 2025) EllapsedTime: 13.0 seconds RetCode: 0 Status: OK PackageFile: MetaboCoreUtils_1.19.0.tar.gz PackageFileSize: 1.278 MiB